BEGIN:VCALENDAR
VERSION:2.0
PRODID:-//Sabre//Sabre VObject 4.3.5//EN
CALSCALE:GREGORIAN
BEGIN:VEVENT
UID:sabre-vobject-cd762cb0-6b5c-4d77-9d2f-41fbbe62d403
DTSTAMP:20260422T110621Z
SUMMARY:JUGENDKONZERT
DTSTART;TZID=Europe/Berlin:20260422T110000
DTEND;TZID=Europe/Berlin:20260422T120000
ORGANIZER;CN=SH Landestheater & Sinfonieorchester:MAILTO:Veranstaltungskale
 nder@sh-landestheater.de
LOCATION:Stadttheater\, Rendsburg\, Rendsburg
GEO:54.3011809;9.6592982
BEGIN:VALARM
TRIGGER;VALUE=DURATION:P1D
ACTION:DISPLAY
DESCRIPTION:JUGENDKONZERT
END:VALARM
END:VEVENT
END:VCALENDAR
