BEGIN:VCALENDAR
VERSION:2.0
PRODID:-//Sabre//Sabre VObject 4.3.5//EN
CALSCALE:GREGORIAN
BEGIN:VEVENT
UID:sabre-vobject-d70d5974-110d-4a1f-990f-0dfc6fe2a18e
DTSTAMP:20260420T022800Z
SUMMARY:Offene Selbsthilfegruppe der Angehörigen psychisch erkrankter Mens
 chen
DTSTART;TZID=Europe/Berlin:20260420T173000
DTEND;TZID=Europe/Berlin:20260420T193000
ORGANIZER;CN=Landesverband Schleswig-Holstein der Angehörigen und Freunde 
 psychisch Kranker e. V.:MAILTO:ruediger.hannig@lvsh-afpk.de
LOCATION:Brücke Rendsburg-Eckernförde\, „Gute Stube“ (Bitte von der R
 ückseite des Haupteingangs/Parkplatz Kindergarten)\, Ahlmannstraße 2a\, 
 Rendsburg
GEO:54.312875388917;9.6375086464192
DESCRIPTION:Gemeinsamer Erfahrungsaustausch von Angehörigen aller psychisc
 h erkrankten Menschen\n- Gemeinsamer Erfahrungsaustausch\n- Teilen unserer
  manchmal doch sehr belastenden Gefühle\n- Unterstützung finden\n- uns e
 infach mal aussprechen und gegenseitig zuhören\n- Expert*innen in eigener
  Sache werden:\n  Wir helfen uns selbst\, so schwierig das auch sein mag\n
 - Möglichkeit der Einflussnahme auf das Geschehen um unsere psychisch Erk
 rankten hinterfragen\n- Mobilisieren von Verständnis und Unterstützung i
 n der Öffentlichkeit\n- Gemeinsam nach Lösungsmöglichkeiten suchen
BEGIN:VALARM
TRIGGER;VALUE=DURATION:P1D
ACTION:DISPLAY
DESCRIPTION:Offene Selbsthilfegruppe der Angehörigen psychisch erkrankter 
 Menschen
END:VALARM
END:VEVENT
END:VCALENDAR
