BEGIN:VCALENDAR
VERSION:2.0
PRODID:-//Sabre//Sabre VObject 4.3.5//EN
CALSCALE:GREGORIAN
BEGIN:VEVENT
UID:sabre-vobject-a786eb83-e180-4faf-a36b-6879a273409b
DTSTAMP:20260423T133507Z
SUMMARY:Sitzung des Hauptausschusses
DTSTART;TZID=Europe/Berlin:20260423T170000
DTEND;TZID=Europe/Berlin:20260423T193000
ORGANIZER;CN=Hauptausschuss:MAILTO:no-reply@www.musterstadt-online.de
LOCATION:Kreis Rendsburg-Eckernförde\, Kaiserstraße 8\, Rendsburg
GEO:54.2975653;9.6694633
DESCRIPTION:\n1 Eröffnung\, Begrüßung und Anträge zur Tagesordnung\n2 F
 ragestunde für Einwohnerinnen und Einwohner\n3 Anfragen nach § 26 Gesch
 äftsordnung des Kreistages\n4 Niederschrift über die Sitzung vom 12.02.2
 026\n5 Bekanntgabe der in nichtöffentlicher Sitzung gefassten Beschlüsse
 \n6 Nutzung gendergerechter Sprache in der Kreisverwaltung\n6.1 Antrag der
  AfD Fraktion - Gebrauch des generischen Maskulins im amtlichen und Hausge
 brauche der Kreisverwaltung\n7 Haushalt 2026\n7.1 Haushaltsgenehmigung 202
 6\n7.2 Entwicklung Personalkosten 2026 - 1. Quartal\n8 Haushalt 2027\n8.1 
 Zeitplan für den Haushalt 2027\n9 Vergabe von Mitteln aus dem Jahresüber
 schuss 2024 der Förde Sparkasse\n9.1 Mittel der Förde Sparkasse: Antrag 
 der Bündnis 90/Die Grünen Schwedeneck zur Errichtung von drei "Klönbän
 ken" in der Gemeinde Schwedeneck\n9.2 Verwendung der Mittel aus dem Jahres
 überschuss 2024 der Förde Sparkasse - Gesamtübersicht\n10 Freigabe von 
 Haushaltsmitteln zur Sicherung des laufenden Betriebs der WohnWerk gGmbH b
 is zum 30.06.2026\n11 Zuwanderung: Vergabe von Integrationsmitteln - Antra
 g der Siedlergemeinschaft Felm zur Förderung des Integrationsprojektes "I
 nterkulturelle Feier des ukrainischen Nationalfeiertages in Felm am 24.08.
 2026\n12 Verwaltungsangelegenheiten\n13 Personalangelegenheiten\n13.1 Nebe
 ntätigkeiten des Landrats\n Herstellung der Nichtöffentlichkeit\n14 Bete
 iligungsverwaltung\n14.1 Zentrale Stelle Rettungsdienst Anstalt des öffen
 tlichen Rechts (ZSR.SH)\, hier: Wirtschaftsplan 2026
BEGIN:VALARM
TRIGGER;VALUE=DURATION:P1D
ACTION:DISPLAY
DESCRIPTION:Sitzung des Hauptausschusses
END:VALARM
END:VEVENT
END:VCALENDAR
